BEGIN:VCALENDAR
VERSION:2.0
PRODID:-//Georgia Coaches Association - ECPv6.15.20//NONSGML v1.0//EN
CALSCALE:GREGORIAN
METHOD:PUBLISH
X-WR-CALNAME:Georgia Coaches Association
X-ORIGINAL-URL:https://gacacoaches.com
X-WR-CALDESC:Events for Georgia Coaches Association
REFRESH-INTERVAL;VALUE=DURATION:PT1H
X-Robots-Tag:noindex
X-PUBLISHED-TTL:PT1H
BEGIN:VTIMEZONE
TZID:America/New_York
BEGIN:DAYLIGHT
TZOFFSETFROM:-0500
TZOFFSETTO:-0400
TZNAME:EDT
DTSTART:20240310T070000
END:DAYLIGHT
BEGIN:STANDARD
TZOFFSETFROM:-0400
TZOFFSETTO:-0500
TZNAME:EST
DTSTART:20241103T060000
END:STANDARD
BEGIN:DAYLIGHT
TZOFFSETFROM:-0500
TZOFFSETTO:-0400
TZNAME:EDT
DTSTART:20250309T070000
END:DAYLIGHT
BEGIN:STANDARD
TZOFFSETFROM:-0400
TZOFFSETTO:-0500
TZNAME:EST
DTSTART:20251102T060000
END:STANDARD
BEGIN:DAYLIGHT
TZOFFSETFROM:-0500
TZOFFSETTO:-0400
TZNAME:EDT
DTSTART:20260308T070000
END:DAYLIGHT
BEGIN:STANDARD
TZOFFSETFROM:-0400
TZOFFSETTO:-0500
TZNAME:EST
DTSTART:20261101T060000
END:STANDARD
END:VTIMEZONE
BEGIN:VEVENT
DTSTART;VALUE=DATE:20251204
DTEND;VALUE=DATE:20251205
DTSTAMP:20260421T094153
CREATED:20250806T201104Z
LAST-MODIFIED:20251204T230754Z
UID:10000210-1764806400-1764892799@gacacoaches.com
SUMMARY:GACA All State Softball Selection Meeting
DESCRIPTION:
URL:https://gacacoaches.com/events/gaca-all-state-softball-selection-meeting-3/
LOCATION:Macon Coliseum\, 240 Coliseum Dr\, Macon\, GA\, United States
CATEGORIES:Active Event
GEO:32.841768;-83.618269
X-APPLE-STRUCTURED-LOCATION;VALUE=URI;X-ADDRESS=Macon Coliseum 240 Coliseum Dr Macon GA United States;X-APPLE-RADIUS=500;X-TITLE=240 Coliseum Dr:geo:-83.618269,32.841768
END:VEVENT
END:VCALENDAR