BEGIN:VCALENDAR
VERSION:2.0
PRODID:-//Georgia Coaches Association - ECPv6.15.20//NONSGML v1.0//EN
CALSCALE:GREGORIAN
METHOD:PUBLISH
X-WR-CALNAME:Georgia Coaches Association
X-ORIGINAL-URL:https://gacacoaches.com
X-WR-CALDESC:Events for Georgia Coaches Association
REFRESH-INTERVAL;VALUE=DURATION:PT1H
X-Robots-Tag:noindex
X-PUBLISHED-TTL:PT1H
BEGIN:VTIMEZONE
TZID:America/New_York
BEGIN:DAYLIGHT
TZOFFSETFROM:-0500
TZOFFSETTO:-0400
TZNAME:EDT
DTSTART:20250309T070000
END:DAYLIGHT
BEGIN:STANDARD
TZOFFSETFROM:-0400
TZOFFSETTO:-0500
TZNAME:EST
DTSTART:20251102T060000
END:STANDARD
BEGIN:DAYLIGHT
TZOFFSETFROM:-0500
TZOFFSETTO:-0400
TZNAME:EDT
DTSTART:20260308T070000
END:DAYLIGHT
BEGIN:STANDARD
TZOFFSETFROM:-0400
TZOFFSETTO:-0500
TZNAME:EST
DTSTART:20261101T060000
END:STANDARD
BEGIN:DAYLIGHT
TZOFFSETFROM:-0500
TZOFFSETTO:-0400
TZNAME:EDT
DTSTART:20270314T070000
END:DAYLIGHT
BEGIN:STANDARD
TZOFFSETFROM:-0400
TZOFFSETTO:-0500
TZNAME:EST
DTSTART:20271107T060000
END:STANDARD
END:VTIMEZONE
BEGIN:VEVENT
DTSTART;VALUE=DATE:20260529
DTEND;VALUE=DATE:20260531
DTSTAMP:20260423T100011
CREATED:20250806T201117Z
LAST-MODIFIED:20260423T130759Z
UID:10000217-1780012800-1780185599@gacacoaches.com
SUMMARY:GACA Hall of Fame 2026
DESCRIPTION:
URL:https://gacacoaches.com/events/gaca-hall-of-fame-2026/
LOCATION:Dalton Convention Center\, 1298 Ingle Dr\, Dalton\, GA\, United States
CATEGORIES:Active Event
GEO:34.822054;-84.975847
X-APPLE-STRUCTURED-LOCATION;VALUE=URI;X-ADDRESS=Dalton Convention Center 1298 Ingle Dr Dalton GA United States;X-APPLE-RADIUS=500;X-TITLE=1298 Ingle Dr:geo:-84.975847,34.822054
END:VEVENT
BEGIN:VEVENT
DTSTART;VALUE=DATE:20260601
DTEND;VALUE=DATE:20260603
DTSTAMP:20260423T100011
CREATED:20250806T201118Z
LAST-MODIFIED:20260423T130759Z
UID:10000219-1780272000-1780444799@gacacoaches.com
SUMMARY:GACA All Star Softball
DESCRIPTION:
URL:https://gacacoaches.com/events/gaca-all-star-softball-4/
LOCATION:University of North Georgia – Dahlonega Campus\, 82 College Cir\, Dahlonega\, GA\, United States
CATEGORIES:Active Event
GEO:34.530731;-83.986223
X-APPLE-STRUCTURED-LOCATION;VALUE=URI;X-ADDRESS=University of North Georgia – Dahlonega Campus 82 College Cir Dahlonega GA United States;X-APPLE-RADIUS=500;X-TITLE=82 College Cir:geo:-83.986223,34.530731
END:VEVENT
BEGIN:VEVENT
DTSTART;TZID=America/New_York:20260601T080000
DTEND;TZID=America/New_York:20260601T090000
DTSTAMP:20260423T100011
CREATED:20260416T203818Z
LAST-MODIFIED:20260423T130759Z
UID:10000449-1780300800-1780304400@gacacoaches.com
SUMMARY:GHSA BOT Meeting
DESCRIPTION:
URL:https://gacacoaches.com/events/ghsa-bot-meeting/
LOCATION:GA
CATEGORIES:Active Event
END:VEVENT
END:VCALENDAR