BEGIN:VCALENDAR
VERSION:2.0
PRODID:-//Georgia Coaches Association - ECPv6.15.20//NONSGML v1.0//EN
CALSCALE:GREGORIAN
METHOD:PUBLISH
X-WR-CALNAME:Georgia Coaches Association
X-ORIGINAL-URL:https://gacacoaches.com
X-WR-CALDESC:Events for Georgia Coaches Association
REFRESH-INTERVAL;VALUE=DURATION:PT1H
X-Robots-Tag:noindex
X-PUBLISHED-TTL:PT1H
BEGIN:VTIMEZONE
TZID:America/New_York
BEGIN:DAYLIGHT
TZOFFSETFROM:-0500
TZOFFSETTO:-0400
TZNAME:EDT
DTSTART:20240310T070000
END:DAYLIGHT
BEGIN:STANDARD
TZOFFSETFROM:-0400
TZOFFSETTO:-0500
TZNAME:EST
DTSTART:20241103T060000
END:STANDARD
BEGIN:DAYLIGHT
TZOFFSETFROM:-0500
TZOFFSETTO:-0400
TZNAME:EDT
DTSTART:20250309T070000
END:DAYLIGHT
BEGIN:STANDARD
TZOFFSETFROM:-0400
TZOFFSETTO:-0500
TZNAME:EST
DTSTART:20251102T060000
END:STANDARD
BEGIN:DAYLIGHT
TZOFFSETFROM:-0500
TZOFFSETTO:-0400
TZNAME:EDT
DTSTART:20260308T070000
END:DAYLIGHT
BEGIN:STANDARD
TZOFFSETFROM:-0400
TZOFFSETTO:-0500
TZNAME:EST
DTSTART:20261101T060000
END:STANDARD
END:VTIMEZONE
BEGIN:VEVENT
DTSTART;TZID=America/New_York:20251025T110000
DTEND;TZID=America/New_York:20251025T130000
DTSTAMP:20260420T082409
CREATED:20251022T145310Z
LAST-MODIFIED:20251029T143849Z
UID:10000440-1761390000-1761397200@gacacoaches.com
SUMMARY:Georgia Coaches v Overdoses Event
DESCRIPTION:
URL:https://gacacoaches.com/events/georgia-coaches-v-overdoses-event/
LOCATION:Carver High School\, 3100 8th St\, Columbus\, GA\, United States
CATEGORIES:Active Event
GEO:32.461196;-84.944752
X-APPLE-STRUCTURED-LOCATION;VALUE=URI;X-ADDRESS=Carver High School 3100 8th St Columbus GA United States;X-APPLE-RADIUS=500;X-TITLE=3100 8th St:geo:-84.944752,32.461196
END:VEVENT
END:VCALENDAR